BEGIN:VCALENDAR
VERSION:2.0
PRODID:-//Heemkunde Sevenum - ECPv6.15.16.1//NONSGML v1.0//EN
CALSCALE:GREGORIAN
METHOD:PUBLISH
X-WR-CALNAME:Heemkunde Sevenum
X-ORIGINAL-URL:https://www.heemkundesevenum.nl
X-WR-CALDESC:Evenementen voor Heemkunde Sevenum
REFRESH-INTERVAL;VALUE=DURATION:PT1H
X-Robots-Tag:noindex
X-PUBLISHED-TTL:PT1H
BEGIN:VTIMEZONE
TZID:UTC
BEGIN:STANDARD
TZOFFSETFROM:+0000
TZOFFSETTO:+0000
TZNAME:UTC
DTSTART:20250101T000000
END:STANDARD
END:VTIMEZONE
BEGIN:VEVENT
DTSTART;TZID=UTC:20260512T193000
DTEND;TZID=UTC:20260512T213000
DTSTAMP:20260421T100109
CREATED:20260106T215531Z
LAST-MODIFIED:20260409T175135Z
UID:6998-1778614200-1778621400@www.heemkundesevenum.nl
SUMMARY:Heemaovend (Dinsdagaovend)
DESCRIPTION:
URL:https://www.heemkundesevenum.nl/event/heemaovend-3/
CATEGORIES:Agenda
END:VEVENT
BEGIN:VEVENT
DTSTART;TZID=UTC:20260608T193000
DTEND;TZID=UTC:20260608T213000
DTSTAMP:20260421T100109
CREATED:20260106T215556Z
LAST-MODIFIED:20260106T215556Z
UID:7000-1780947000-1780954200@www.heemkundesevenum.nl
SUMMARY:Heemaovend
DESCRIPTION:
URL:https://www.heemkundesevenum.nl/event/heemaovend-4/
CATEGORIES:Agenda
END:VEVENT
BEGIN:VEVENT
DTSTART;VALUE=DATE:20260617
DTEND;VALUE=DATE:20260618
DTSTAMP:20260421T100109
CREATED:20260127T182845Z
LAST-MODIFIED:20260127T183525Z
UID:7042-1781654400-1781740799@www.heemkundesevenum.nl
SUMMARY:Zomeravondexcursie (fietstocht) - Nog geen verdere info beschikbaar
DESCRIPTION:
URL:https://www.heemkundesevenum.nl/event/zomeravondexcursie-nog-geen-verdere-info-beschikbaar/
CATEGORIES:Agenda
END:VEVENT
BEGIN:VEVENT
DTSTART;TZID=UTC:20260907T193000
DTEND;TZID=UTC:20260907T213000
DTSTAMP:20260421T100109
CREATED:20260106T215623Z
LAST-MODIFIED:20260106T215623Z
UID:7002-1788809400-1788816600@www.heemkundesevenum.nl
SUMMARY:Heemaovend
DESCRIPTION:
URL:https://www.heemkundesevenum.nl/event/heemaovend-5/
CATEGORIES:Agenda
END:VEVENT
BEGIN:VEVENT
DTSTART;VALUE=DATE:20260919
DTEND;VALUE=DATE:20260920
DTSTAMP:20260421T100109
CREATED:20260127T183003Z
LAST-MODIFIED:20260127T183003Z
UID:7044-1789776000-1789862399@www.heemkundesevenum.nl
SUMMARY:Wandeling langs gevelstenen (boek Pieter Baeten) - Nog geen verdere info beschikbaar
DESCRIPTION:
URL:https://www.heemkundesevenum.nl/event/wandeling-langs-gevelstenen-boek-pieter-baeten-nog-geen-verdere-info-beschikbaar/
CATEGORIES:Agenda
END:VEVENT
BEGIN:VEVENT
DTSTART;TZID=UTC:20261005T193000
DTEND;TZID=UTC:20261005T213000
DTSTAMP:20260421T100109
CREATED:20260106T215709Z
LAST-MODIFIED:20260106T215709Z
UID:7004-1791228600-1791235800@www.heemkundesevenum.nl
SUMMARY:Heemaovend
DESCRIPTION:
URL:https://www.heemkundesevenum.nl/event/heemaovend-6/
CATEGORIES:Agenda
END:VEVENT
BEGIN:VEVENT
DTSTART;TZID=UTC:20261102T193000
DTEND;TZID=UTC:20261102T213000
DTSTAMP:20260421T100109
CREATED:20260106T215743Z
LAST-MODIFIED:20260106T215743Z
UID:7006-1793647800-1793655000@www.heemkundesevenum.nl
SUMMARY:Heemaovend
DESCRIPTION:
URL:https://www.heemkundesevenum.nl/event/heemaovend-7/
CATEGORIES:Agenda
END:VEVENT
BEGIN:VEVENT
DTSTART;VALUE=DATE:20261107
DTEND;VALUE=DATE:20261108
DTSTAMP:20260421T100109
CREATED:20260127T183039Z
LAST-MODIFIED:20260127T183039Z
UID:7046-1794009600-1794095999@www.heemkundesevenum.nl
SUMMARY:Bezoek Peelmuseum - Nog geen verdere info beschikbaar
DESCRIPTION:
URL:https://www.heemkundesevenum.nl/event/bezoek-peelmuseum-nog-geen-verdere-info-beschikbaar/
CATEGORIES:Agenda
END:VEVENT
BEGIN:VEVENT
DTSTART;VALUE=DATE:20261212
DTEND;VALUE=DATE:20261213
DTSTAMP:20260421T100109
CREATED:20260127T183117Z
LAST-MODIFIED:20260127T183117Z
UID:7048-1797033600-1797119999@www.heemkundesevenum.nl
SUMMARY:Winteractiviteit - Nog geen verdere info beschikbaar
DESCRIPTION:
URL:https://www.heemkundesevenum.nl/event/winteractiviteit-nog-geen-verdere-info-beschikbaar/
CATEGORIES:Agenda
END:VEVENT
END:VCALENDAR