BEGIN:VCALENDAR
VERSION:2.0
PRODID:-//Heemkunde Sevenum - ECPv6.15.16.1//NONSGML v1.0//EN
CALSCALE:GREGORIAN
METHOD:PUBLISH
X-ORIGINAL-URL:https://www.heemkundesevenum.nl
X-WR-CALDESC:Evenementen voor Heemkunde Sevenum
REFRESH-INTERVAL;VALUE=DURATION:PT1H
X-Robots-Tag:noindex
X-PUBLISHED-TTL:PT1H
BEGIN:VTIMEZONE
TZID:UTC
BEGIN:STANDARD
TZOFFSETFROM:+0000
TZOFFSETTO:+0000
TZNAME:UTC
DTSTART:20240101T000000
END:STANDARD
END:VTIMEZONE
BEGIN:VEVENT
DTSTART;VALUE=DATE:20250624
DTEND;VALUE=DATE:20250625
DTSTAMP:20260421T152157
CREATED:20241118T184338Z
LAST-MODIFIED:20241118T184338Z
UID:5930-1750723200-1750809599@www.heemkundesevenum.nl
SUMMARY:Bestuursvergadering juni
DESCRIPTION:
URL:https://www.heemkundesevenum.nl/event/bestuursvergadering-juni/
CATEGORIES:Vergaderdata
END:VEVENT
END:VCALENDAR