BEGIN:VCALENDAR
VERSION:2.0
PRODID:-//Heemkunde Sevenum - ECPv6.15.16.1//NONSGML v1.0//EN
CALSCALE:GREGORIAN
METHOD:PUBLISH
X-ORIGINAL-URL:https://www.heemkundesevenum.nl
X-WR-CALDESC:Evenementen voor Heemkunde Sevenum
REFRESH-INTERVAL;VALUE=DURATION:PT1H
X-Robots-Tag:noindex
X-PUBLISHED-TTL:PT1H
BEGIN:VTIMEZONE
TZID:UTC
BEGIN:STANDARD
TZOFFSETFROM:+0000
TZOFFSETTO:+0000
TZNAME:UTC
DTSTART:20240101T000000
END:STANDARD
END:VTIMEZONE
BEGIN:VEVENT
DTSTART;VALUE=DATE:20250415
DTEND;VALUE=DATE:20250416
DTSTAMP:20260423T140246
CREATED:20241118T184253Z
LAST-MODIFIED:20241118T184253Z
UID:5926-1744675200-1744761599@www.heemkundesevenum.nl
SUMMARY:Bestuursvergadering april
DESCRIPTION:
URL:https://www.heemkundesevenum.nl/event/bestuursvergadering-april/
CATEGORIES:Vergaderdata
END:VEVENT
END:VCALENDAR